View In:
ArcGIS JavaScript
ArcGIS Online Map Viewer
ArcGIS Earth
Service Description: basemap/Stadtgrundkarte_grau
Name: basemap/Stadtgrundkarte_grau
Description:
Single Fused Map Cache: false
Extent:
XMin: 353000.0
YMin: 5689999.99861842
XMax: 370999.985910922
YMax: 5711999.999999999
Spatial Reference: 25832
(25832)
LatestVCSWkid(0)
Initial Extent:
XMin: 353000.0
YMin: 5689999.99861842
XMax: 370999.985910922
YMax: 5711999.999999999
Spatial Reference: 25832
(25832)
LatestVCSWkid(0)
Full Extent:
XMin: 353000.0
YMin: 5689999.99861842
XMax: 370999.985910922
YMax: 5711999.999999999
Spatial Reference: 25832
(25832)
LatestVCSWkid(0)
Pixel Size X: 0.04233000002568492
Pixel Size Y: 0.042329999618219705
Band Count: 1
Pixel Type: U8
RasterFunction Infos: {"rasterFunctionInfos": [{
"name": "None",
"description": "",
"help": ""
}]}
Mensuration Capabilities: Basic
Inspection Capabilities:
Has Histograms: true
Has Colormap: false
Has Multi Dimensions : false
Rendering Rule:
Min Scale: 0
Max Scale: 0
Resampling: false
Copyright Text:
Service Data Type: esriImageServiceDataTypeGeneric
Min Values: 0
Max Values: 255
Mean Values: 250.72526947425405
Standard Deviation Values: 30.843528677410244
Object ID Field:
Fields:
None
Default Mosaic Method: Center
Allowed Mosaic Methods:
SortField:
SortValue: null
Mosaic Operator: First
Default Compression Quality: 75
Default Resampling Method: Bilinear
Max Record Count: null
Max Image Height: 4100
Max Image Width: 15000
Max Download Image Count: null
Max Mosaic Image Count: null
Allow Raster Function: false
Allow Copy: false
Allow Analysis: false
Allow Compute TiePoints: false
Supports Statistics: false
Supports Advanced Queries: false
Use StandardizedQueries: true
Raster Type Infos:
Name: Raster Dataset
Description: Supports all ArcGIS Raster Datasets
Help:
Has Raster Attribute Table: false
Edit Fields Info: null
Ownership Based AccessControl For Rasters: null
Child Resources:
Info
Histograms
Statistics
Key Properties
Legend
Raster Function Infos
Supported Operations:
Export Image
Identify
Measure
Compute Histograms
Compute Statistics Histograms
Get Samples
Compute Class Statistics
Query Boundary
Compute Pixel Location
Compute Angles
Validate
Project